BEGIN:VCALENDAR
VERSION:2.0
PRODID:-//kleines theater Bad Godesberg - ECPv6.15.20//NONSGML v1.0//EN
CALSCALE:GREGORIAN
METHOD:PUBLISH
X-WR-CALNAME:kleines theater Bad Godesberg
X-ORIGINAL-URL:https://kleinestheater.eu
X-WR-CALDESC:Veranstaltungen für kleines theater Bad Godesberg
REFRESH-INTERVAL;VALUE=DURATION:PT1H
X-Robots-Tag:noindex
X-PUBLISHED-TTL:PT1H
BEGIN:VTIMEZONE
TZID:Europe/Berlin
BEGIN:DAYLIGHT
TZOFFSETFROM:+0100
TZOFFSETTO:+0200
TZNAME:CEST
DTSTART:20220327T010000
END:DAYLIGHT
BEGIN:STANDARD
TZOFFSETFROM:+0200
TZOFFSETTO:+0100
TZNAME:CET
DTSTART:20221030T010000
END:STANDARD
BEGIN:DAYLIGHT
TZOFFSETFROM:+0100
TZOFFSETTO:+0200
TZNAME:CEST
DTSTART:20230326T010000
END:DAYLIGHT
BEGIN:STANDARD
TZOFFSETFROM:+0200
TZOFFSETTO:+0100
TZNAME:CET
DTSTART:20231029T010000
END:STANDARD
BEGIN:DAYLIGHT
TZOFFSETFROM:+0100
TZOFFSETTO:+0200
TZNAME:CEST
DTSTART:20240331T010000
END:DAYLIGHT
BEGIN:STANDARD
TZOFFSETFROM:+0200
TZOFFSETTO:+0100
TZNAME:CET
DTSTART:20241027T010000
END:STANDARD
END:VTIMEZONE
BEGIN:VEVENT
DTSTART;TZID=Europe/Berlin:20230821T193000
DTEND;TZID=Europe/Berlin:20230821T220000
DTSTAMP:20260422T103958
CREATED:20230609T134609Z
LAST-MODIFIED:20230609T134609Z
UID:10006885-1692646200-1692655200@kleinestheater.eu
SUMMARY:MUSIK unter der ZEDER/ Rhine River Rudies - KuKuG e.V.
DESCRIPTION:MUSIK unter der ZEDER/ Rhine River Rudies\n\nWann: Montag 21. August 2023/ 19:30-22:00 inkl. Pause\nWo: kleines theater/ Koblenzer Straße 78/ 53177 Bonn\nVeranstalter: KuKuG e.V. \, kleines theater\n\nTickets: https://www.eventbrite.de/e/534822738207\n\nZwischen der Côte della Sürth und dem Niehl-Delta schlägt die Ska-Welle gerne mal besonders hoch und unerwartet:\nEben noch ahnungslos und trübe durch den Park gewandelt\, plötzlich erfasst von den Skanks der Rhine River Rudies!\nDie neunköpfige Truppe aus Kölle mischt fröhlichen Ska und Rocksteady mit allem was auf die Beine bringt und sonst nicht mehr zu retten wäre!\nApropos Retten: Die Rudies möchten gerne möglichst alle mit ins Boot holen und spenden ihren gesamten Gagenanteil von den Ticketerträgen an die Seenotrettungsorganisation Sea-Eye e.V. (www.sea-eye.org).\nWeitere Infos:\nDieses Konzert ist unbestuhlt. Bei Bedarf sind allerdings ausreichend Sitzmöglichkeiten vorhanden.\nTickets sind auch an der Abendkasse erhältlich.\nErmäßigung nach Vorlage eines entsprechenden Ausweises für: Studenten\, Schüler\, Azubis und Schwerbehinderte
URL:https://kleinestheater.eu/event/musik-unter-der-zeder-rhine-river-rudies-kukug-e-v
LOCATION:kleines theater\, Koblenzer Str. 78\, Bonn\, 53177\, Deutschland
ATTACH;FMTTYPE=image/jpeg:https://kleinestheater.eu/wp-content/uploads/2023/06/csm_Pressefoto_01_Rhine_River_Rudies__003__455b3dae0c.jpg
ORGANIZER;CN="kleines theater":MAILTO:info@kleinestheater.eu
END:VEVENT
END:VCALENDAR