BEGIN:VCALENDAR
VERSION:2.0
PRODID:-//kleines theater Bad Godesberg - ECPv6.15.20//NONSGML v1.0//EN
CALSCALE:GREGORIAN
METHOD:PUBLISH
X-ORIGINAL-URL:https://kleinestheater.eu
X-WR-CALDESC:Veranstaltungen für kleines theater Bad Godesberg
REFRESH-INTERVAL;VALUE=DURATION:PT1H
X-Robots-Tag:noindex
X-PUBLISHED-TTL:PT1H
BEGIN:VTIMEZONE
TZID:Europe/Berlin
BEGIN:DAYLIGHT
TZOFFSETFROM:+0100
TZOFFSETTO:+0200
TZNAME:CEST
DTSTART:20230326T010000
END:DAYLIGHT
BEGIN:STANDARD
TZOFFSETFROM:+0200
TZOFFSETTO:+0100
TZNAME:CET
DTSTART:20231029T010000
END:STANDARD
BEGIN:DAYLIGHT
TZOFFSETFROM:+0100
TZOFFSETTO:+0200
TZNAME:CEST
DTSTART:20240331T010000
END:DAYLIGHT
BEGIN:STANDARD
TZOFFSETFROM:+0200
TZOFFSETTO:+0100
TZNAME:CET
DTSTART:20241027T010000
END:STANDARD
BEGIN:DAYLIGHT
TZOFFSETFROM:+0100
TZOFFSETTO:+0200
TZNAME:CEST
DTSTART:20250330T010000
END:DAYLIGHT
BEGIN:STANDARD
TZOFFSETFROM:+0200
TZOFFSETTO:+0100
TZNAME:CET
DTSTART:20251026T010000
END:STANDARD
END:VTIMEZONE
BEGIN:VEVENT
DTSTART;TZID=Europe/Berlin:20240623T193000
DTEND;TZID=Europe/Berlin:20240623T213000
DTSTAMP:20260422T141800
CREATED:20230705T201149Z
LAST-MODIFIED:20240721T070003Z
UID:10007113-1719171000-1719178200@kleinestheater.eu
SUMMARY:DAS LÄCHELN DER FRAUEN - Komödie nach dem gleichnamigen Roman von Nicolas Barreau - Unter der Zeder
DESCRIPTION:DAS LÄCHELN DER FRAUEN \n\nKomödie nach dem gleichnamigen Roman von Nicolas Barreau\nBühnenfassung: Gunnar Dreßler\n\n\n„Es gibt keine Zufälle!” Davon ist Aurélie\, die nach dem Tod ihres Vaters dessen Restaurant Le Temps des Cerises übernommen hat\, überzeugt. An jenem verhängnisvollen Freitag im November\, als Aurélie so unglücklich ist wie nie zuvor\, fällt ihr in einer Buchhandlung ein Roman mit dem Titel Das Lächeln der Frauen ins Auge. Verwundert stößt sie auf einen Satz\, der auf ihr eigenes kleines Restaurant verweist.\nNach der Lektüre der ganzen Geschichte will Aurélie plötzlich nicht mehr sterben. Eines aber will sie unbedingt – den Autor dieses Romans kennenlernen\, der ihr\, davon ist sie überzeugt\, das Leben gerettet hat\, ohne dies auch nur zu ahnen. Sie möchte sich bedanken und ihn in ihr kleines charmantes Restaurant einladen\, das er ja offensichtlich bereits zu kennen scheint. Doch ihr Wunsch erweist sich als schwieriges\, ja fast unmögliches Unterfangen. Alle Versuche\, mit dem scheuen Autor über seinen französischen Verlag in Kontakt zu treten\, werden von dem bärbeißigen Lektor André abgeblockt\, der ihre enthusiastischen Briefe nur widerwillig weiterleitet.\nDoch Aurélie gibt nicht auf\, und als eines Tages tatsächlich eine Nachricht von dem zurückhaltenden Schriftsteller in ihren Briefkasten flattert\, kommt es zu einer ganz anderen Begegnung\, als sie es sich vorgestellt hat…\n\n\nNicolas Barreau\, geboren 1980 in Paris\, hat mit »Das Lächeln der Frauen« eine zauberhafte Liebesgeschichte voller überraschender Wendungen und amüsanter Verwicklungen geschrieben. Der Roman stand 83 Wochenlang auf der Spiegel Bestsellerliste und wurde weltweit über eine Million Mal verkauft.\n\n\nRegie: Steffen Laube\nMit Anna Möbus und Manuel Jadue\n\n\nTickets: EUR 36\,00 EUR 34\,00 EUR 32\,00 EUR 29\,00 EUR 25\,00\nermäßigt: EUR 18\,00 EUR 17\,00 EUR 16\,00 EUR 14\,00 12\,00\nKulturticket (ASTA BONN): EUR 3\,00\nKulturtafel: 0\,00\nTickets unter 0228-362839 \,  info@kleinestheater.eu oder direkt\nonline in unserem Ticket-Shop\n\n 
URL:https://kleinestheater.eu/event/das-laecheln-der-frauen-komoedie-nach-dem-gleichnamigen-roman-von-nicolas-barreau-unter-der-zeder/2024-06-23
LOCATION:kleines theater\, Koblenzer Str. 78\, Bonn\, 53177\, Deutschland
ATTACH;FMTTYPE=image/jpeg:https://kleinestheater.eu/wp-content/uploads/2023/07/240107_Nachschlag.jpg
ORGANIZER;CN="kleines theater":MAILTO:info@kleinestheater.eu
END:VEVENT
END:VCALENDAR